BEGIN:VCALENDAR
VERSION:2.0
PRODID:icalendar-ruby
CALSCALE:GREGORIAN
BEGIN:VEVENT
DTSTAMP:20260424T005153Z
UID:b7c3c134-7932-45c9-947f-0ce9003f626a
DTSTART;VALUE=DATE:20190820
DESCRIPTION:Property ID# 458719\, Time: 4:00PM
SUMMARY:Auction for 
END:VEVENT
END:VCALENDAR
